BEGIN:VCALENDAR
VERSION:2.0
PRODID:-//Wonder Shows - ECPv6.11.2//NONSGML v1.0//EN
CALSCALE:GREGORIAN
METHOD:PUBLISH
X-WR-CALNAME:Wonder Shows
X-ORIGINAL-URL:http://192.99.176.212
X-WR-CALDESC:Events for Wonder Shows
REFRESH-INTERVAL;VALUE=DURATION:PT1H
X-Robots-Tag:noindex
X-PUBLISHED-TTL:PT1H
BEGIN:VTIMEZONE
TZID:America/Winnipeg
BEGIN:DAYLIGHT
TZOFFSETFROM:-0600
TZOFFSETTO:-0500
TZNAME:CDT
DTSTART:20260308T080000
END:DAYLIGHT
BEGIN:STANDARD
TZOFFSETFROM:-0500
TZOFFSETTO:-0600
TZNAME:CST
DTSTART:20261101T070000
END:STANDARD
END:VTIMEZONE
BEGIN:VEVENT
DTSTART;TZID=America/Winnipeg:20260626T170000
DTEND;TZID=America/Winnipeg:20260626T230000
DTSTAMP:20260421T042731
CREATED:20260410T150714Z
LAST-MODIFIED:20260420T164746Z
UID:10000695-1782493200-1782514800@192.99.176.212
SUMMARY:IKEA Family Fair (Early Summer)
DESCRIPTION:🎡 IKEA Family Fun Fair (Early Summer) 🎡 \nRides\, Games & Tons of Family Carnival Fun await you at the 2026 IKEA Family Fun Fair! \n🗓 Event Dates: June 26th – June 28th\, 2026 \nHours: \n\nFriday\, June 26th: 5pm–11pm\nSaturday\, June 27th: 12pm–11pm\nSunday\, June 28th: 12pm–5pm\n\n📍 Location: IKEA Winnipeg — 500 Sterling Lyon Pkwy \n🎟 All-Rides Wristband (includes entrance admission and taxes): \n\n$40.00 Cash\n$42.00 Debit/Credit\n\n🎟 Entrance Admission Only: \n\n$10.00 Cash\n$12.00 Debit/Credit\n\nChildren under 30″ tall enter free of charge. \nImportant Information: \n\nA valid ticket is required for all visitors\, including children\nEach guest must present a valid ticket to enter the carnival\nOffer valid exclusively for IKEA Family members\nIKEA Family members must present their IKEA Family membership card and photo ID to qualify for the discount\nDiscount cannot be combined with any other offer or promotion
URL:http://192.99.176.212/event/ikea-family-fair-3/2026-06-26/
LOCATION:IKEA Parking Lot\, 500 Sterling Lyon Pkwy\, Winnipeg\, Manitoba\, R3P 1E7\, Canada
CATEGORIES:2026 Events
GEO:49.8392129;-97.2115556
X-APPLE-STRUCTURED-LOCATION;VALUE=URI;X-ADDRESS=IKEA Parking Lot 500 Sterling Lyon Pkwy Winnipeg Manitoba R3P 1E7 Canada;X-APPLE-RADIUS=500;X-TITLE=500 Sterling Lyon Pkwy:geo:-97.2115556,49.8392129
END:VEVENT
BEGIN:VEVENT
DTSTART;TZID=America/Winnipeg:20260627T120000
DTEND;TZID=America/Winnipeg:20260627T230000
DTSTAMP:20260421T042731
CREATED:20260410T150714Z
LAST-MODIFIED:20260420T164746Z
UID:10000696-1782561600-1782601200@192.99.176.212
SUMMARY:IKEA Family Fair (Early Summer)
DESCRIPTION:🎡 IKEA Family Fun Fair (Early Summer) 🎡 \nRides\, Games & Tons of Family Carnival Fun await you at the 2026 IKEA Family Fun Fair! \n🗓 Event Dates: June 26th – June 28th\, 2026 \nHours: \n\nFriday\, June 26th: 5pm–11pm\nSaturday\, June 27th: 12pm–11pm\nSunday\, June 28th: 12pm–5pm\n\n📍 Location: IKEA Winnipeg — 500 Sterling Lyon Pkwy \n🎟 All-Rides Wristband (includes entrance admission and taxes): \n\n$40.00 Cash\n$42.00 Debit/Credit\n\n🎟 Entrance Admission Only: \n\n$10.00 Cash\n$12.00 Debit/Credit\n\nChildren under 30″ tall enter free of charge. \nImportant Information: \n\nA valid ticket is required for all visitors\, including children\nEach guest must present a valid ticket to enter the carnival\nOffer valid exclusively for IKEA Family members\nIKEA Family members must present their IKEA Family membership card and photo ID to qualify for the discount\nDiscount cannot be combined with any other offer or promotion
URL:http://192.99.176.212/event/ikea-family-fair-3/2026-06-27/
LOCATION:IKEA Parking Lot\, 500 Sterling Lyon Pkwy\, Winnipeg\, Manitoba\, R3P 1E7\, Canada
CATEGORIES:2026 Events
GEO:49.8392129;-97.2115556
X-APPLE-STRUCTURED-LOCATION;VALUE=URI;X-ADDRESS=IKEA Parking Lot 500 Sterling Lyon Pkwy Winnipeg Manitoba R3P 1E7 Canada;X-APPLE-RADIUS=500;X-TITLE=500 Sterling Lyon Pkwy:geo:-97.2115556,49.8392129
END:VEVENT
BEGIN:VEVENT
DTSTART;TZID=America/Winnipeg:20260628T120000
DTEND;TZID=America/Winnipeg:20260628T170000
DTSTAMP:20260421T042731
CREATED:20260410T150714Z
LAST-MODIFIED:20260420T164746Z
UID:10000697-1782648000-1782666000@192.99.176.212
SUMMARY:IKEA Family Fair (Early Summer)
DESCRIPTION:🎡 IKEA Family Fun Fair (Early Summer) 🎡 \nRides\, Games & Tons of Family Carnival Fun await you at the 2026 IKEA Family Fun Fair! \n🗓 Event Dates: June 26th – June 28th\, 2026 \nHours: \n\nFriday\, June 26th: 5pm–11pm\nSaturday\, June 27th: 12pm–11pm\nSunday\, June 28th: 12pm–5pm\n\n📍 Location: IKEA Winnipeg — 500 Sterling Lyon Pkwy \n🎟 All-Rides Wristband (includes entrance admission and taxes): \n\n$40.00 Cash\n$42.00 Debit/Credit\n\n🎟 Entrance Admission Only: \n\n$10.00 Cash\n$12.00 Debit/Credit\n\nChildren under 30″ tall enter free of charge. \nImportant Information: \n\nA valid ticket is required for all visitors\, including children\nEach guest must present a valid ticket to enter the carnival\nOffer valid exclusively for IKEA Family members\nIKEA Family members must present their IKEA Family membership card and photo ID to qualify for the discount\nDiscount cannot be combined with any other offer or promotion
URL:http://192.99.176.212/event/ikea-family-fair-3/2026-06-28/
LOCATION:IKEA Parking Lot\, 500 Sterling Lyon Pkwy\, Winnipeg\, Manitoba\, R3P 1E7\, Canada
CATEGORIES:2026 Events
GEO:49.8392129;-97.2115556
X-APPLE-STRUCTURED-LOCATION;VALUE=URI;X-ADDRESS=IKEA Parking Lot 500 Sterling Lyon Pkwy Winnipeg Manitoba R3P 1E7 Canada;X-APPLE-RADIUS=500;X-TITLE=500 Sterling Lyon Pkwy:geo:-97.2115556,49.8392129
END:VEVENT
END:VCALENDAR